BEGIN:VCALENDAR
VERSION:2.0
PRODID:-//SF-Caravan Pirkanmaa Ry - ECPv6.15.20//NONSGML v1.0//EN
CALSCALE:GREGORIAN
METHOD:PUBLISH
X-WR-CALNAME:SF-Caravan Pirkanmaa Ry
X-ORIGINAL-URL:https://uusi.sfcpirkanmaa.fi
X-WR-CALDESC:Tapahtumat SF-Caravan Pirkanmaa Ry
REFRESH-INTERVAL;VALUE=DURATION:PT1H
X-Robots-Tag:noindex
X-PUBLISHED-TTL:PT1H
BEGIN:VTIMEZONE
TZID:Europe/Helsinki
BEGIN:DAYLIGHT
TZOFFSETFROM:+0200
TZOFFSETTO:+0300
TZNAME:EEST
DTSTART:20220327T010000
END:DAYLIGHT
BEGIN:STANDARD
TZOFFSETFROM:+0300
TZOFFSETTO:+0200
TZNAME:EET
DTSTART:20221030T010000
END:STANDARD
BEGIN:DAYLIGHT
TZOFFSETFROM:+0200
TZOFFSETTO:+0300
TZNAME:EEST
DTSTART:20230326T010000
END:DAYLIGHT
BEGIN:STANDARD
TZOFFSETFROM:+0300
TZOFFSETTO:+0200
TZNAME:EET
DTSTART:20231029T010000
END:STANDARD
BEGIN:DAYLIGHT
TZOFFSETFROM:+0200
TZOFFSETTO:+0300
TZNAME:EEST
DTSTART:20240331T010000
END:DAYLIGHT
BEGIN:STANDARD
TZOFFSETFROM:+0300
TZOFFSETTO:+0200
TZNAME:EET
DTSTART:20241027T010000
END:STANDARD
END:VTIMEZONE
BEGIN:VEVENT
DTSTART;TZID=Europe/Helsinki:20230510T120000
DTEND;TZID=Europe/Helsinki:20230524T000000
DTSTAMP:20260424T130522
CREATED:20230508T094624Z
LAST-MODIFIED:20230508T094820Z
UID:12595-1683720000-1684886400@uusi.sfcpirkanmaa.fi
SUMMARY:ROSKALAVA KE 10.5 - 24.5
DESCRIPTION:KEVÄTSIIVOUSTA\, TARPEETTOMAT METALLIROINAT ROSKALAVALLE JA TAAS ON SIISTIÄ. \nTRAKTORIN LAVA TULEE VIEREEN JA SIIHEN PUUTAVARA JA LEHTIROSKAT. \nKIVAA KEVÄÄN JATKOA!
URL:https://uusi.sfcpirkanmaa.fi/event/roskalava-ke-10-5-24-5/
CATEGORIES:Maisansalo
END:VEVENT
BEGIN:VEVENT
DTSTART;TZID=Europe/Helsinki:20230520T080000
DTEND;TZID=Europe/Helsinki:20230520T170000
DTSTAMP:20260424T130522
CREATED:20230422T101802Z
LAST-MODIFIED:20230508T165819Z
UID:12475-1684569600-1684602000@uusi.sfcpirkanmaa.fi
SUMMARY:Vankkurimännikön kevätsiivoustalkoot ja aluepalaveri
DESCRIPTION: Vaunukunnat siivoavat itsenäisesti oman kausipaikan ympäristöä perjantaista alkaen. \n\nLauantaina klo 9:00 alkaen kokoonnutaan toimistolle ja jakaudutaan työryhmiin\n- Ulkoalueiden siivousta ja haravointiroskien poiskuljetus\n- Talkooporukalle kahvi- ja lounastarjoilu\n- Talkooväelle tarjolla keittolounas klo. 13:30 - 14:30. Jaetaan omiin astioihin toimiston läheisyydessä.\n \n \nLauantaina klo 15:00 aluepalaveri\n- Tervetuloa kaikki alueen kausipaikkalaiset\n- Talouskatsaus ja meneillään olevat tai lähiaikoina alkavat remontit ym. \nHuvipub palvelee pe. ja la. iltoina klo. 21:30 -> \n  \n 
URL:https://uusi.sfcpirkanmaa.fi/event/vankkurimannikon-kevatsiivoustalkoot-ja-aluepalaveri/
LOCATION:Vankkurimännikkö\, Lakarintie 580\, Virrat\, 34800\, Finland
CATEGORIES:Vankkurimännikkö
END:VEVENT
BEGIN:VEVENT
DTSTART;TZID=Europe/Helsinki:20230520T130000
DTEND;TZID=Europe/Helsinki:20230520T160000
DTSTAMP:20260424T130522
CREATED:20230505T072706Z
LAST-MODIFIED:20230505T072829Z
UID:12570-1684587600-1684598400@uusi.sfcpirkanmaa.fi
SUMMARY:Maisansalon Aluepalaveri  20.5 -23 klo 13.00-
DESCRIPTION:
URL:https://uusi.sfcpirkanmaa.fi/event/maisansalon-aluepalaveri-20-5-23-klo-13-00/
LOCATION:Maisansalo\, Maisansalo\, Finland
CATEGORIES:Maisansalo
END:VEVENT
END:VCALENDAR