BEGIN:VCALENDAR
VERSION:2.0
PRODID:-//SF-Caravan Pirkanmaa Ry - ECPv6.15.20//NONSGML v1.0//EN
CALSCALE:GREGORIAN
METHOD:PUBLISH
X-ORIGINAL-URL:https://uusi.sfcpirkanmaa.fi
X-WR-CALDESC:Tapahtumat SF-Caravan Pirkanmaa Ry
REFRESH-INTERVAL;VALUE=DURATION:PT1H
X-Robots-Tag:noindex
X-PUBLISHED-TTL:PT1H
BEGIN:VTIMEZONE
TZID:Europe/Helsinki
BEGIN:DAYLIGHT
TZOFFSETFROM:+0200
TZOFFSETTO:+0300
TZNAME:EEST
DTSTART:20220327T010000
END:DAYLIGHT
BEGIN:STANDARD
TZOFFSETFROM:+0300
TZOFFSETTO:+0200
TZNAME:EET
DTSTART:20221030T010000
END:STANDARD
BEGIN:DAYLIGHT
TZOFFSETFROM:+0200
TZOFFSETTO:+0300
TZNAME:EEST
DTSTART:20230326T010000
END:DAYLIGHT
BEGIN:STANDARD
TZOFFSETFROM:+0300
TZOFFSETTO:+0200
TZNAME:EET
DTSTART:20231029T010000
END:STANDARD
BEGIN:DAYLIGHT
TZOFFSETFROM:+0200
TZOFFSETTO:+0300
TZNAME:EEST
DTSTART:20240331T010000
END:DAYLIGHT
BEGIN:STANDARD
TZOFFSETFROM:+0300
TZOFFSETTO:+0200
TZNAME:EET
DTSTART:20241027T010000
END:STANDARD
END:VTIMEZONE
BEGIN:VEVENT
DTSTART;TZID=Europe/Helsinki:20230714T080000
DTEND;TZID=Europe/Helsinki:20230716T170000
DTSTAMP:20260424T074006
CREATED:20230514T090033Z
LAST-MODIFIED:20230701T113712Z
UID:12645-1689321600-1689526800@uusi.sfcpirkanmaa.fi
SUMMARY:Tikkakisat 2023
DESCRIPTION:  \n \n \n 
URL:https://uusi.sfcpirkanmaa.fi/event/tikkakisat-2023/
LOCATION:Vankkurimännikkö\, Lakarintie 580\, Virrat\, 34800\, Finland
CATEGORIES:Vankkurimännikkö
END:VEVENT
END:VCALENDAR