BEGIN:VCALENDAR
VERSION:2.0
PRODID:-//SF-Caravan Pirkanmaa Ry - ECPv6.15.20//NONSGML v1.0//EN
CALSCALE:GREGORIAN
METHOD:PUBLISH
X-WR-CALNAME:SF-Caravan Pirkanmaa Ry
X-ORIGINAL-URL:https://uusi.sfcpirkanmaa.fi
X-WR-CALDESC:Tapahtumat SF-Caravan Pirkanmaa Ry
REFRESH-INTERVAL;VALUE=DURATION:PT1H
X-Robots-Tag:noindex
X-PUBLISHED-TTL:PT1H
BEGIN:VTIMEZONE
TZID:Europe/Helsinki
BEGIN:DAYLIGHT
TZOFFSETFROM:+0200
TZOFFSETTO:+0300
TZNAME:EEST
DTSTART:20220327T010000
END:DAYLIGHT
BEGIN:STANDARD
TZOFFSETFROM:+0300
TZOFFSETTO:+0200
TZNAME:EET
DTSTART:20221030T010000
END:STANDARD
BEGIN:DAYLIGHT
TZOFFSETFROM:+0200
TZOFFSETTO:+0300
TZNAME:EEST
DTSTART:20230326T010000
END:DAYLIGHT
BEGIN:STANDARD
TZOFFSETFROM:+0300
TZOFFSETTO:+0200
TZNAME:EET
DTSTART:20231029T010000
END:STANDARD
BEGIN:DAYLIGHT
TZOFFSETFROM:+0200
TZOFFSETTO:+0300
TZNAME:EEST
DTSTART:20240331T010000
END:DAYLIGHT
BEGIN:STANDARD
TZOFFSETFROM:+0300
TZOFFSETTO:+0200
TZNAME:EET
DTSTART:20241027T010000
END:STANDARD
END:VTIMEZONE
BEGIN:VEVENT
DTSTART;TZID=Europe/Helsinki:20230728T080000
DTEND;TZID=Europe/Helsinki:20230730T170000
DTSTAMP:20260424T073810
CREATED:20230514T091043Z
LAST-MODIFIED:20230716T145645Z
UID:12648-1690531200-1690736400@uusi.sfcpirkanmaa.fi
SUMMARY:Superviikonloppu 2023
DESCRIPTION:Jälleen syke kohoaa ja hiki irtoaa Vankkumännikössä.\nSuperviikonloppuna Männikön Höntsääjät pitävät lentopallosta kiinnostuneet liikkeellä\, ja vähemmän liikuntaa\nkaipaavat voivat halutessaan hikoilla saunassa lähes koko päivän. \n \nKatusäbä on myös mahdollista toteuttaa\, jos innokkaita pelaajia löytyy riittävästi. \n \n \n \n \n 
URL:https://uusi.sfcpirkanmaa.fi/event/superviikonloppu-2023/
LOCATION:Vankkurimännikkö\, Lakarintie 580\, Virrat\, 34800\, Finland
CATEGORIES:Vankkurimännikkö
END:VEVENT
END:VCALENDAR