BEGIN:VCALENDAR
VERSION:2.0
PRODID:-//SF-Caravan Pirkanmaa Ry - ECPv6.15.20//NONSGML v1.0//EN
CALSCALE:GREGORIAN
METHOD:PUBLISH
X-ORIGINAL-URL:https://uusi.sfcpirkanmaa.fi
X-WR-CALDESC:Tapahtumat SF-Caravan Pirkanmaa Ry
REFRESH-INTERVAL;VALUE=DURATION:PT1H
X-Robots-Tag:noindex
X-PUBLISHED-TTL:PT1H
BEGIN:VTIMEZONE
TZID:Europe/Helsinki
BEGIN:DAYLIGHT
TZOFFSETFROM:+0200
TZOFFSETTO:+0300
TZNAME:EEST
DTSTART:20220327T010000
END:DAYLIGHT
BEGIN:STANDARD
TZOFFSETFROM:+0300
TZOFFSETTO:+0200
TZNAME:EET
DTSTART:20221030T010000
END:STANDARD
BEGIN:DAYLIGHT
TZOFFSETFROM:+0200
TZOFFSETTO:+0300
TZNAME:EEST
DTSTART:20230326T010000
END:DAYLIGHT
BEGIN:STANDARD
TZOFFSETFROM:+0300
TZOFFSETTO:+0200
TZNAME:EET
DTSTART:20231029T010000
END:STANDARD
BEGIN:DAYLIGHT
TZOFFSETFROM:+0200
TZOFFSETTO:+0300
TZNAME:EEST
DTSTART:20240331T010000
END:DAYLIGHT
BEGIN:STANDARD
TZOFFSETFROM:+0300
TZOFFSETTO:+0200
TZNAME:EET
DTSTART:20241027T010000
END:STANDARD
END:VTIMEZONE
BEGIN:VEVENT
DTSTART;TZID=Europe/Helsinki:20230805T120000
DTEND;TZID=Europe/Helsinki:20230805T180000
DTSTAMP:20260424T060018
CREATED:20230721T133142Z
LAST-MODIFIED:20230731T163804Z
UID:12965-1691236800-1691258400@uusi.sfcpirkanmaa.fi
SUMMARY:HämyKaraoke karsinta
DESCRIPTION:Huvipubissa klo.12:00 - 18:00\nPubi auki kilpailun aikana. \nSarjat:   Naiset ja Naiset +60\nMiehet ja Miehet +60\nNuoret (13–16 vuotta)\nLapset (8–12 vuotta)\nLapset (alle 8 vuotta)\n Duot (yksi sarja)\nEdustajat voivat halutessaan muodostaa keskuudestaan Duo "joukkueen" kilpailumatkalla.\n \nHämykaraoke-finaali pidetään 19.8.2023 Vuorenmäellä.\n(Salmelantie 178\, 16200 Artjärvi) \nKatso TÄSTÄ linkistä Vuoremmäen viikonlopun ohjelma. \nHämyjen karaoke-laulukilpailun säännöt: \nOsallistujat Hämyjen karaokekilpailuun karsitaan yhdistyksittäin yhdistyksien omissa tapahtumissa. Finaaliin voivat osallistua yhdistyksen nimeämät laulajat\, jotka ovat edustamansa yhdistyksen jäseniä.\nEdellisen vuoden voittajat eivät saa osallistua kilpailuun seuraavana vuonna. Kilpailuilmoittautumiset tehdään kilpailun järjestäjälle yhdistyksittäin viimeistään kaksi viikkoa ennen finaalia. \nSarjat:   Naiset ja Naiset +60\nMiehet ja Miehet +60\nNuoret (13–16 vuotta)\nLapset (8–12 vuotta)\nLapset (alle 8 vuotta)\nDuot (yksi sarja) \nNaisten ja miesten sarjaan kukin yhdistys voi nimetä yhden edustajan pl. Pirkanmaan yhdistys\, joka voi nimetä kyseisen määrän edustajia kummaltakin alueeltaan. Lasten ja nuorten karsinnat (3 hlö/sarja finaaliin) järjestetään finaalipaikalla ennen finaalia.\nFinaalissa kukin edustaja esittää kaksi vapaavalintaista kappaletta. Samaa kappaletta ei saa esittää useampaan kertaan.\nKappaleiden esityskieli on vapaavalintainen ja kappaleet valitaan finaalipaikalla olevasta järjestäjän valikoimasta.\nJärjestävä yhdistys tiedottaa kilpailusta tarkemmin ja huolehtii\, että paikalla on tuomaristo\, jossa on vähintään kolme jäsentä. Tuomaristo on paikalla koko kilpailun ajan.\nEnnen kilpailun alkua tuomaristoesitellään kilpailijoille ja yleisölle. \nHämyjen karaokefinaalin tuomarointikriteerit: \n\nLauluääni\n– äänen puhtaus\, laatu ja persoonallisuus\nRytmi ja tempo\n– äänen suhde musiikkiin\nTulkinta\n– vokaalinen ilmaisu: kuinka hyvin laulaja pystyy ilmaisemaan laulun tarkoituksen ja tunteen\nLavakarisma\n– laulun fyysinen ilmaisu: esiintymisen visuaalinen suorittaminen lavalla ja pukeutuminen\nViihdytyksellinen arvo \n– kuinka yleisö ja tuomaristo reagoivat kokonaisesitykseen.\nLaulun valinta\n– sopiiko laulu ko. esiintyjälle ja miten hän sen tulkitsee\, panostus esiintymiseen\nÄäni\n– Ääni\, sävelessä ja rytmissä pysyminen\, esiintymistaito\, esiintyjän ulkoinen olemus (ei ulkonäkö)
URL:https://uusi.sfcpirkanmaa.fi/event/hamy-karaokekarsinta/
LOCATION:Vankkurimännikkö\, Lakarintie 580\, Virrat\, 34800\, Finland
CATEGORIES:Vankkurimännikkö
END:VEVENT
BEGIN:VEVENT
DTSTART;TZID=Europe/Helsinki:20230805T130000
DTEND;TZID=Europe/Helsinki:20230805T150000
DTSTAMP:20260424T060018
CREATED:20230213T134319Z
LAST-MODIFIED:20230712T140705Z
UID:11999-1691240400-1691247600@uusi.sfcpirkanmaa.fi
SUMMARY:Maisansalo Aluepalaveri
DESCRIPTION:5.8-23 Aluepalaveri \nTapahtuman tarkemmat tiedot lähempänä ajankohtaa.
URL:https://uusi.sfcpirkanmaa.fi/event/aluepalaveri/
LOCATION:Maisansalo\, Maisansalo\, Finland
CATEGORIES:Maisansalo
END:VEVENT
END:VCALENDAR