BEGIN:VCALENDAR
VERSION:2.0
PRODID:-//SF-Caravan Pirkanmaa Ry - ECPv6.15.20//NONSGML v1.0//EN
CALSCALE:GREGORIAN
METHOD:PUBLISH
X-ORIGINAL-URL:https://uusi.sfcpirkanmaa.fi
X-WR-CALDESC:Tapahtumat SF-Caravan Pirkanmaa Ry
REFRESH-INTERVAL;VALUE=DURATION:PT1H
X-Robots-Tag:noindex
X-PUBLISHED-TTL:PT1H
BEGIN:VTIMEZONE
TZID:Europe/Helsinki
BEGIN:DAYLIGHT
TZOFFSETFROM:+0200
TZOFFSETTO:+0300
TZNAME:EEST
DTSTART:20220327T010000
END:DAYLIGHT
BEGIN:STANDARD
TZOFFSETFROM:+0300
TZOFFSETTO:+0200
TZNAME:EET
DTSTART:20221030T010000
END:STANDARD
BEGIN:DAYLIGHT
TZOFFSETFROM:+0200
TZOFFSETTO:+0300
TZNAME:EEST
DTSTART:20230326T010000
END:DAYLIGHT
BEGIN:STANDARD
TZOFFSETFROM:+0300
TZOFFSETTO:+0200
TZNAME:EET
DTSTART:20231029T010000
END:STANDARD
BEGIN:DAYLIGHT
TZOFFSETFROM:+0200
TZOFFSETTO:+0300
TZNAME:EEST
DTSTART:20240331T010000
END:DAYLIGHT
BEGIN:STANDARD
TZOFFSETFROM:+0300
TZOFFSETTO:+0200
TZNAME:EET
DTSTART:20241027T010000
END:STANDARD
END:VTIMEZONE
BEGIN:VEVENT
DTSTART;TZID=Europe/Helsinki:20231201T080000
DTEND;TZID=Europe/Helsinki:20231203T170000
DTSTAMP:20260423T224124
CREATED:20230721T134837Z
LAST-MODIFIED:20231120T171320Z
UID:12977-1701417600-1701622800@uusi.sfcpirkanmaa.fi
SUMMARY:Vankkurimännikön Pikkujoulu -23
DESCRIPTION:PERJANTAI \nSaunavuorot\n17:00 – 19:00 Naiset\n19:00 – 21:00 Miehet \nHuvipubissa\n20:30 – 21:30 Lasten karaoke\n21:30 – 22:30 Kinkkubingo\n22:30 – 00:30 Karaoke \n  \nLAUANTAI \nHuvikummun ruokasali\n11:00 – 13:00 Lasten askartelua \nSaunavuorot\n13:00 – 15:00 Naiset\n15:00 – 17:00 Miehet \nHuvikummulla\n17:30 – 19:00 Joulupuuro ja pukin vierailu\n(Pukki tuo Korvatunturin terveiset ja lapsille paketit)\n21:00 – 01:00 Orkesteritanssit \n \n  \nOhjelmamaksu 10€ / vaunukunta \n  \nTervetuloa viihtymän
URL:https://uusi.sfcpirkanmaa.fi/event/pikkujoulu/
LOCATION:Vankkurimännikkö\, Lakarintie 580\, Virrat\, 34800\, Finland
CATEGORIES:Vankkurimännikkö
END:VEVENT
BEGIN:VEVENT
DTSTART;TZID=Europe/Helsinki:20231201T180000
DTEND;TZID=Europe/Helsinki:20231209T143000
DTSTAMP:20260423T224124
CREATED:20231025T061014Z
LAST-MODIFIED:20231201T065540Z
UID:13418-1701453600-1702132200@uusi.sfcpirkanmaa.fi
SUMMARY:KINKKUARPOJEN MYYNTI
DESCRIPTION:KINKKUARPOJEN myynti: 1.12 - 9.12. klo 14.30 saakka\, jolloin arvonta suoritetaan\, (mikäli arpoja riittää). Hinta 1€/arpa.  \nHuomaathan että arpajaiset on järjestetty vain alueella yöpyville ja/tai kausipaikan vuokranneille.
URL:https://uusi.sfcpirkanmaa.fi/event/kinkkuarpojen-myynti/
CATEGORIES:Maisansalo
END:VEVENT
END:VCALENDAR