BEGIN:VCALENDAR
VERSION:2.0
PRODID:-//SF-Caravan Pirkanmaa Ry - ECPv6.15.20//NONSGML v1.0//EN
CALSCALE:GREGORIAN
METHOD:PUBLISH
X-WR-CALNAME:SF-Caravan Pirkanmaa Ry
X-ORIGINAL-URL:https://uusi.sfcpirkanmaa.fi
X-WR-CALDESC:Tapahtumat SF-Caravan Pirkanmaa Ry
REFRESH-INTERVAL;VALUE=DURATION:PT1H
X-Robots-Tag:noindex
X-PUBLISHED-TTL:PT1H
BEGIN:VTIMEZONE
TZID:Europe/Helsinki
BEGIN:DAYLIGHT
TZOFFSETFROM:+0200
TZOFFSETTO:+0300
TZNAME:EEST
DTSTART:20220327T010000
END:DAYLIGHT
BEGIN:STANDARD
TZOFFSETFROM:+0300
TZOFFSETTO:+0200
TZNAME:EET
DTSTART:20221030T010000
END:STANDARD
BEGIN:DAYLIGHT
TZOFFSETFROM:+0200
TZOFFSETTO:+0300
TZNAME:EEST
DTSTART:20230326T010000
END:DAYLIGHT
BEGIN:STANDARD
TZOFFSETFROM:+0300
TZOFFSETTO:+0200
TZNAME:EET
DTSTART:20231029T010000
END:STANDARD
BEGIN:DAYLIGHT
TZOFFSETFROM:+0200
TZOFFSETTO:+0300
TZNAME:EEST
DTSTART:20240331T010000
END:DAYLIGHT
BEGIN:STANDARD
TZOFFSETFROM:+0300
TZOFFSETTO:+0200
TZNAME:EET
DTSTART:20241027T010000
END:STANDARD
BEGIN:DAYLIGHT
TZOFFSETFROM:+0200
TZOFFSETTO:+0300
TZNAME:EEST
DTSTART:20250330T010000
END:DAYLIGHT
BEGIN:STANDARD
TZOFFSETFROM:+0300
TZOFFSETTO:+0200
TZNAME:EET
DTSTART:20251026T010000
END:STANDARD
END:VTIMEZONE
BEGIN:VEVENT
DTSTART;TZID=Europe/Helsinki:20231229T080000
DTEND;TZID=Europe/Helsinki:20240101T170000
DTSTAMP:20260423T223749
CREATED:20231127T080220Z
LAST-MODIFIED:20231217T194203Z
UID:13516-1703836800-1704128400@uusi.sfcpirkanmaa.fi
SUMMARY:VM uudenvuoden tapahtuma -23 -> 24
DESCRIPTION:PERJANTAI 29.12.\nToimisto palvelee 17:00 – 19:00 \n\nNaisten sauna 17:00 – 19:00\nMiesten sauna 19:00 – 21:00\nLapsille leffailta huvipubissa 19:00 – 21:00\n\n  \nLAUANTAI 30.12.\nToimisto palvelee 10:00 – 15:00 \n\nNaisten sauna 17:00 – 19:00\nMiesten sauna 19:00 – 21:00\nLasten karaoke 20:30 – 21:30\nTarjolla jouluhyvää ja pikku yllätys\nAikuisten karaoke huvipubissa 21:30 – 00:30\n\n  \nSUNNUNTAI 31.12.\nToimisto palvelee 10:00 – 13:00 \n\nNaisten sauna 16:00 – 18:00\nMiesten sauna 18:00 – 20:00\nOrkesteritanssi huvipubissa 21:00 – 01:30\nTaxi & Drivers vastaa musiikista\n\n  \nMAANANTAI 1.1.\nToimisto palvelee 10:00 – 13:00 \n  \nAlueella ei ole yhdistyksen puolesta järjestettyä ilotulitusta\, mutta jokainen saa ampua omia ilotulitteitaan siihen osoitetulla alueella Patosen tilaussaunan luona seuraavasti.\nLapsille klo. 18:00 – 19:00 ja muut klo. 00:00 – 01:00.\nNäin toimien lemmikkimme pääsevät mahdollisimman vähällä stressillä vuodenvaihteesta. \nVAUNUALUEELLA KAIKKI PAUKUTTELU EHDOTTOMASTI KIELLETTY.
URL:https://uusi.sfcpirkanmaa.fi/event/vm-uudenvuoden-tapahtuma-23-24/
LOCATION:Vankkurimännikkö\, Lakarintie 580\, Virrat\, 34800\, Finland
CATEGORIES:Vankkurimännikkö
END:VEVENT
END:VCALENDAR