BEGIN:VCALENDAR
VERSION:2.0
PRODID:-//SF-Caravan Pirkanmaa Ry - ECPv6.15.20//NONSGML v1.0//EN
CALSCALE:GREGORIAN
METHOD:PUBLISH
X-ORIGINAL-URL:https://uusi.sfcpirkanmaa.fi
X-WR-CALDESC:Tapahtumat SF-Caravan Pirkanmaa Ry
REFRESH-INTERVAL;VALUE=DURATION:PT1H
X-Robots-Tag:noindex
X-PUBLISHED-TTL:PT1H
BEGIN:VTIMEZONE
TZID:Europe/Helsinki
BEGIN:DAYLIGHT
TZOFFSETFROM:+0200
TZOFFSETTO:+0300
TZNAME:EEST
DTSTART:20240331T010000
END:DAYLIGHT
BEGIN:STANDARD
TZOFFSETFROM:+0300
TZOFFSETTO:+0200
TZNAME:EET
DTSTART:20241027T010000
END:STANDARD
BEGIN:DAYLIGHT
TZOFFSETFROM:+0200
TZOFFSETTO:+0300
TZNAME:EEST
DTSTART:20250330T010000
END:DAYLIGHT
BEGIN:STANDARD
TZOFFSETFROM:+0300
TZOFFSETTO:+0200
TZNAME:EET
DTSTART:20251026T010000
END:STANDARD
BEGIN:DAYLIGHT
TZOFFSETFROM:+0200
TZOFFSETTO:+0300
TZNAME:EEST
DTSTART:20260329T010000
END:DAYLIGHT
BEGIN:STANDARD
TZOFFSETFROM:+0300
TZOFFSETTO:+0200
TZNAME:EET
DTSTART:20261025T010000
END:STANDARD
END:VTIMEZONE
BEGIN:VEVENT
DTSTART;VALUE=DATE:20250208
DTEND;VALUE=DATE:20250209
DTSTAMP:20260422T212448
CREATED:20250105T101931Z
LAST-MODIFIED:20250125T121248Z
UID:14537-1738972800-1739059199@uusi.sfcpirkanmaa.fi
SUMMARY:Maisan Texas Hold’em
DESCRIPTION:Maisansalon Texas Hold’em tapahtuma helmikuussa\, laittakaa tapahtuma muistiin ja tulkaa paikalle pelaamaan tai kannustamaan pelaajia. \nTapahtumaan osallistuminen edellyttää alueella yöpymistä. \nTervetuloa !!!
URL:https://uusi.sfcpirkanmaa.fi/event/maisan-texas-holdem/
CATEGORIES:Maisansalo
END:VEVENT
END:VCALENDAR