BEGIN:VCALENDAR
VERSION:2.0
PRODID:-//SF-Caravan Pirkanmaa Ry - ECPv6.15.20//NONSGML v1.0//EN
CALSCALE:GREGORIAN
METHOD:PUBLISH
X-ORIGINAL-URL:https://uusi.sfcpirkanmaa.fi
X-WR-CALDESC:Tapahtumat SF-Caravan Pirkanmaa Ry
REFRESH-INTERVAL;VALUE=DURATION:PT1H
X-Robots-Tag:noindex
X-PUBLISHED-TTL:PT1H
BEGIN:VTIMEZONE
TZID:Europe/Helsinki
BEGIN:DAYLIGHT
TZOFFSETFROM:+0200
TZOFFSETTO:+0300
TZNAME:EEST
DTSTART:20220327T010000
END:DAYLIGHT
BEGIN:STANDARD
TZOFFSETFROM:+0300
TZOFFSETTO:+0200
TZNAME:EET
DTSTART:20221030T010000
END:STANDARD
BEGIN:DAYLIGHT
TZOFFSETFROM:+0200
TZOFFSETTO:+0300
TZNAME:EEST
DTSTART:20230326T010000
END:DAYLIGHT
BEGIN:STANDARD
TZOFFSETFROM:+0300
TZOFFSETTO:+0200
TZNAME:EET
DTSTART:20231029T010000
END:STANDARD
BEGIN:DAYLIGHT
TZOFFSETFROM:+0200
TZOFFSETTO:+0300
TZNAME:EEST
DTSTART:20240331T010000
END:DAYLIGHT
BEGIN:STANDARD
TZOFFSETFROM:+0300
TZOFFSETTO:+0200
TZNAME:EET
DTSTART:20241027T010000
END:STANDARD
END:VTIMEZONE
BEGIN:VEVENT
DTSTART;TZID=Europe/Helsinki:20230929T080000
DTEND;TZID=Europe/Helsinki:20231001T170000
DTSTAMP:20260424T003432
CREATED:20230823T073309Z
LAST-MODIFIED:20230823T073309Z
UID:13067-1695974400-1696179600@uusi.sfcpirkanmaa.fi
SUMMARY:Vankkurimännikön siivoustalkoot ja aluepalaveri
DESCRIPTION:Perjantai: \n\nKausipaikkalaisten oma-aloitteista siivoamista vaununsa ympäristössä\nSaunat\n\nNaiset 17:00 – 19:00\nMiehet 19:00 – 21:00\n\n\n\nLauantai: \n\nTehtävienjako klo. 9:00 toimiston terassilta\nklo 13:00 tarjoillaan talkoosoppaa\n15:00 syksyn aluepalaveri\nSaunat\n\nNaiset 17:00 – 19:00\nMiehet 19:00 – 21:00\n\n\nKaraoke klo. 21:30 →
URL:https://uusi.sfcpirkanmaa.fi/event/vankkurimannikon-siivoustalkoot-ja-aluepalaveri/
LOCATION:Vankkurimännikkö\, Lakarintie 580\, Virrat\, 34800\, Finland
CATEGORIES:Vankkurimännikkö
END:VEVENT
BEGIN:VEVENT
DTSTART;VALUE=DATE:20231020
DTEND;VALUE=DATE:20231023
DTSTAMP:20260424T003432
CREATED:20230919T095350Z
LAST-MODIFIED:20230920T152730Z
UID:13250-1697760000-1698019199@uusi.sfcpirkanmaa.fi
SUMMARY:MAISAN SIIVOUSTALKOOT viikonloppuna  20-22.10 -23
DESCRIPTION:ROSKALAVA VIIVÄHTÄÄ ALUELLAMME  17-31 10. VÄLISEN AJAN.                                                                                       Putsaillaan alueemme paikat kuntoon talkoovoimin viikonlopun 20-22.10 aikana ja jäädään odottelemaan talvea. Sekin luultavast tulee.. Tuttuun tapaan lauantaina 21.10 tarjotaan ahkeralle talkooväelle talkoosoppa klo 13.00 alkaen.
URL:https://uusi.sfcpirkanmaa.fi/event/siivoustalkoot-20-22-10-23/
LOCATION:Maisansalo\, Maisansalo\, Finland
CATEGORIES:Maisansalo
END:VEVENT
BEGIN:VEVENT
DTSTART;TZID=Europe/Helsinki:20231020T080000
DTEND;TZID=Europe/Helsinki:20231022T170000
DTSTAMP:20260424T003432
CREATED:20230721T134142Z
LAST-MODIFIED:20231012T044850Z
UID:12972-1697788800-1697994000@uusi.sfcpirkanmaa.fi
SUMMARY:Kaamoskemut
DESCRIPTION:Perjantaina 20.10.2023\nToimisto palvelee:\n15:00 – 17:00 ja 18:00 – 20:00 \nSaunat:\nNaiset 17:00 – 19:00\nMiehet 19:00 – 21:00 \nHuvipub:\nLasten Karaoke 20:30 – 21:30\nAikuisten Karaoke 21:30 – 00:30 \n  \nLauantai 21.10.2023\nToimisto palvelee:\n10:00 – 13:00 \nPeräkonttikirppis\n( Takkatuvan kentällä )\n12:00 – 14:00 \nLasten naamiaiskulkue\n12:00 – 13:00 \nSaunat:\nNaiset 16:00 – 18:00\nMiehet 18:00 – 20:00 \nHuvipub:\nHuvipubissa naamiaistanssit 21:00 – 01:00\nNaamiaisporukan tanssirytmit takaa\nJani Kujala & Tanssiorkesteri Siders \n \n \nTervetuloa viihtymään \nTapahtumamaksu 10€ / vaunukunta \nToimikunta varaa oikeuden ohjelmamuutoksiin.
URL:https://uusi.sfcpirkanmaa.fi/event/kaamoskemut/
LOCATION:Vankkurimännikkö\, Lakarintie 580\, Virrat\, 34800\, Finland
CATEGORIES:Vankkurimännikkö
END:VEVENT
BEGIN:VEVENT
DTSTART;TZID=Europe/Helsinki:20231027T210000
DTEND;TZID=Europe/Helsinki:20231028T003000
DTSTAMP:20260424T003432
CREATED:20230615T055717Z
LAST-MODIFIED:20230920T152527Z
UID:12768-1698440400-1698453000@uusi.sfcpirkanmaa.fi
SUMMARY:MAISAN HALLOWEEN / NEITOSET ORKESTERI tanssittaa pe. 27.10
DESCRIPTION:Illat pimenevät ja on aika viettää karmivaa HALLOWEENIÄ. Joko naamioituneena tai ilman..."Asu vapaa mutta pakollinen"  🙂                                                                                       \n\nArvovaltainen tuomaristo valitsee parhaan Halloween asun. Palkinto jaetaan Pubissa klo. 23\,00. Iloisesti TERVETULOA!\n\nHuomaathan että tapahtuma on järjestetty vain alueella yöpyville ja/tai kausipaikan vuokranneille. Tapahtumasta päivitetään tarkempaa tietoa  lähempänä ajankohtaa. Muutokset mahdollisia.\n\n\n\nNeitoset orkesteri  tanssittaa klo 21.00-00.00  (Huom\, muutokset mahdollisia)\nPub avoinna klo  20.00-00.30\nGrilli avoinna klo 20.00-22.00\nNeitoset on viidestä naismuusikosta koostuva tanssiorkesteri joka tunnetaan pohjoisen raikkaana tuulahduksena. Musiikin helmet tempaavat mukaansa ja esiintymisen pirskahteleva ilo tarttuu. Kirsikkana kakun päällä on stemmalaulu. NEITOSET on kautta aikain ensimmäinen Kullervo Linna säätiön palkinnon saanut naisorkesteri\, Vuoden 2020 Tanssittaja ja SMOrk voittaja vuodelta 2019. Tapahtuma on järjestetty vain alueella yöpyville ja/tai kausipaikan vuokranneille. Tervetuloa!   \n\n\n\nNeitoset 2023. Kuva: Mika Nurmi \n 
URL:https://uusi.sfcpirkanmaa.fi/event/neitoset-orkesteri-tanssittaa/
LOCATION:Maisansalo\, Maisansalo\, Finland
CATEGORIES:Maisansalo
END:VEVENT
BEGIN:VEVENT
DTSTART;TZID=Europe/Helsinki:20231028T200000
DTEND;TZID=Europe/Helsinki:20231029T003000
DTSTAMP:20260424T003432
CREATED:20230919T133259Z
LAST-MODIFIED:20230920T152419Z
UID:13265-1698523200-1698539400@uusi.sfcpirkanmaa.fi
SUMMARY:MAISAN VALOJUHLA la. 28.10 -23
DESCRIPTION:Koristellaan alueella auton/vaunun ympäristö erilaisilla valoilla. Kynttilät lyhdyt sähkö tms. valaistus sallitaan.  \nIllalla Pubi avoinna klo 20-23.30 KARAOKE. Yleisvalaistus alueelta sammutetaan klo 21.00 ja valaistus palautetaan klo 21.30. Ja tässäkin arvovaltainen raati kiertää arvostellen alueen ja myös paras valaistus palkitaan lauantaina Pubissa klo 23.00. \nHuomaathan että tapahtuma on järjestetty vain alueella yöpyville ja/tai kausipaikan vuokranneille. Tapahtumasta päivitetään tarkempaa tietoa  lähempänä ajankohtaa. Muutokset mahdollisia. \n \n 
URL:https://uusi.sfcpirkanmaa.fi/event/maisan-valojuhla-la-28-10-23/
LOCATION:Maisansalo\, Maisansalo\, Finland
CATEGORIES:Maisansalo
END:VEVENT
END:VCALENDAR