BEGIN:VCALENDAR
VERSION:2.0
PRODID:-//SF-Caravan Pirkanmaa Ry - ECPv6.15.20//NONSGML v1.0//EN
CALSCALE:GREGORIAN
METHOD:PUBLISH
X-ORIGINAL-URL:https://uusi.sfcpirkanmaa.fi
X-WR-CALDESC:Tapahtumat SF-Caravan Pirkanmaa Ry
REFRESH-INTERVAL;VALUE=DURATION:PT1H
X-Robots-Tag:noindex
X-PUBLISHED-TTL:PT1H
BEGIN:VTIMEZONE
TZID:Europe/Helsinki
BEGIN:DAYLIGHT
TZOFFSETFROM:+0200
TZOFFSETTO:+0300
TZNAME:EEST
DTSTART:20220327T010000
END:DAYLIGHT
BEGIN:STANDARD
TZOFFSETFROM:+0300
TZOFFSETTO:+0200
TZNAME:EET
DTSTART:20221030T010000
END:STANDARD
BEGIN:DAYLIGHT
TZOFFSETFROM:+0200
TZOFFSETTO:+0300
TZNAME:EEST
DTSTART:20230326T010000
END:DAYLIGHT
BEGIN:STANDARD
TZOFFSETFROM:+0300
TZOFFSETTO:+0200
TZNAME:EET
DTSTART:20231029T010000
END:STANDARD
BEGIN:DAYLIGHT
TZOFFSETFROM:+0200
TZOFFSETTO:+0300
TZNAME:EEST
DTSTART:20240331T010000
END:DAYLIGHT
BEGIN:STANDARD
TZOFFSETFROM:+0300
TZOFFSETTO:+0200
TZNAME:EET
DTSTART:20241027T010000
END:STANDARD
END:VTIMEZONE
BEGIN:VEVENT
DTSTART;TZID=Europe/Helsinki:20231111T080000
DTEND;TZID=Europe/Helsinki:20231111T170000
DTSTAMP:20260423T224502
CREATED:20230721T134730Z
LAST-MODIFIED:20230721T134730Z
UID:12975-1699689600-1699722000@uusi.sfcpirkanmaa.fi
SUMMARY:Isänpäiväkahvitus
DESCRIPTION:
URL:https://uusi.sfcpirkanmaa.fi/event/isanpaivakahvitus/
LOCATION:Vankkurimännikkö\, Lakarintie 580\, Virrat\, 34800\, Finland
CATEGORIES:Vankkurimännikkö
END:VEVENT
BEGIN:VEVENT
DTSTART;TZID=Europe/Helsinki:20231111T130000
DTEND;TZID=Europe/Helsinki:20231111T150000
DTSTAMP:20260423T224502
CREATED:20230919T154511Z
LAST-MODIFIED:20231025T060935Z
UID:13270-1699707600-1699714800@uusi.sfcpirkanmaa.fi
SUMMARY:ISÄNPÄIVÄ-KAKKUKAHVIT
DESCRIPTION:ONNITTELUT ISÄNPÄIVÄNÄ!   KAKKUKAHVITARJOILU  KLO 13.00.\nHuomaathan että tapahtuma on järjestetty vain alueella yöpyville ja/tai kausipaikan vuokranneille. Tapahtumasta päivitetään tarkempaa tietoa tarvittaessa lähempänä ajankohtaa. Muutokset mahdollisia.
URL:https://uusi.sfcpirkanmaa.fi/event/maisan-isanpaiva-kakkukahvit-la-11-11-23/
LOCATION:Maisansalo\, Maisansalo\, Finland
CATEGORIES:Maisansalo
END:VEVENT
END:VCALENDAR