BEGIN:VCALENDAR
VERSION:2.0
PRODID:-//SF-Caravan Pirkanmaa Ry - ECPv6.15.20//NONSGML v1.0//EN
CALSCALE:GREGORIAN
METHOD:PUBLISH
X-ORIGINAL-URL:https://uusi.sfcpirkanmaa.fi
X-WR-CALDESC:Tapahtumat SF-Caravan Pirkanmaa Ry
REFRESH-INTERVAL;VALUE=DURATION:PT1H
X-Robots-Tag:noindex
X-PUBLISHED-TTL:PT1H
BEGIN:VTIMEZONE
TZID:Europe/Helsinki
BEGIN:DAYLIGHT
TZOFFSETFROM:+0200
TZOFFSETTO:+0300
TZNAME:EEST
DTSTART:20230326T010000
END:DAYLIGHT
BEGIN:STANDARD
TZOFFSETFROM:+0300
TZOFFSETTO:+0200
TZNAME:EET
DTSTART:20231029T010000
END:STANDARD
BEGIN:DAYLIGHT
TZOFFSETFROM:+0200
TZOFFSETTO:+0300
TZNAME:EEST
DTSTART:20240331T010000
END:DAYLIGHT
BEGIN:STANDARD
TZOFFSETFROM:+0300
TZOFFSETTO:+0200
TZNAME:EET
DTSTART:20241027T010000
END:STANDARD
BEGIN:DAYLIGHT
TZOFFSETFROM:+0200
TZOFFSETTO:+0300
TZNAME:EEST
DTSTART:20250330T010000
END:DAYLIGHT
BEGIN:STANDARD
TZOFFSETFROM:+0300
TZOFFSETTO:+0200
TZNAME:EET
DTSTART:20251026T010000
END:STANDARD
END:VTIMEZONE
BEGIN:VEVENT
DTSTART;TZID=Europe/Helsinki:20240830T080000
DTEND;TZID=Europe/Helsinki:20240901T170000
DTSTAMP:20260423T043826
CREATED:20240728T140215Z
LAST-MODIFIED:20240819T170146Z
UID:14150-1725004800-1725210000@uusi.sfcpirkanmaa.fi
SUMMARY:VM Venetsialaiset
DESCRIPTION:Perjantai:\n• Toimisto auki poikkeuksellisesti 9.00-19.00\n• Saunat N 17.00-19.00 ja M 19.00-21.00\n• Orkesteritanssit Huvipubissa klo 21.00 alkaen. Tahdit takaa Törmälä Bros. \nLauantai:\n• Toimisto auki 10.00-14.00 ja 15.00-17.00\n• Saunat poikkeuksellisesti N 14.00-16.00 ja M 16.00-18.00\n• Kokoonnumme sään salliessa Takatuvan kentälle omine pöytine ja tuoleineen\nklo 19.00 alkaen. Mahdollisuus osallistua VM menu ruokailuun ennakkoilmoittautumista\nvastaan toimistolle\, tai sähköpostilla vastaanotto@vankkurimannikko.fi 10€/hlö.\nRuoka noudettavissa Arina-uunilta.\nMikäli sää estää Takkatuvan kentällä olemisen\, siirrymme pitämään pitkää\npöytää Riihelle.\n• Venetsialaiskokko \nMännikön Venetsialaismenu:\nVarattava ennakkoon viimeistään 25.8.\n• Ylikypsää possua\n• Perunaa\n• Salaattia \nTervetuloa viihtymään.
URL:https://uusi.sfcpirkanmaa.fi/event/vm-venetsialaiset/
CATEGORIES:Vankkurimännikkö
END:VEVENT
BEGIN:VEVENT
DTSTART;TZID=Europe/Helsinki:20240907T100000
DTEND;TZID=Europe/Helsinki:20240907T140000
DTSTAMP:20260423T043826
CREATED:20240728T093640Z
LAST-MODIFIED:20240729T194927Z
UID:14140-1725703200-1725717600@uusi.sfcpirkanmaa.fi
SUMMARY:Maisansalon rannalta onginta kilpailut
DESCRIPTION:Jälleen se aika vuodesta kun aika katsoa kuka ne kalat oikein nappaa. \nTapahtumasta tulee tarkempaa tietoa lähempänä ajankohtaa.
URL:https://uusi.sfcpirkanmaa.fi/event/maisan-rannalta-onginta-kilpailut/
LOCATION:Maisansalo\, Maisansalo\, Finland
CATEGORIES:Maisansalo
END:VEVENT
BEGIN:VEVENT
DTSTART;TZID=Europe/Helsinki:20240914T130000
DTEND;TZID=Europe/Helsinki:20240914T140000
DTSTAMP:20260423T043826
CREATED:20240903T183538Z
LAST-MODIFIED:20240905T192746Z
UID:14271-1726318800-1726322400@uusi.sfcpirkanmaa.fi
SUMMARY:Maisansalon kakkukahvit 14.9.2024
DESCRIPTION:Kakkukahvit tarjolla kaikille kausipaikkalaisille ja jäsenille Maisa-pubissa erinomaisesti menneen kesän ansioista.\nSamalla käydään läpi alueen jäsenen esille tuomia asioita. \nTervetuloa kaikki paikalle!!!
URL:https://uusi.sfcpirkanmaa.fi/event/maisansalon-kakkukahvit-14-9-2024/
LOCATION:Maisansalo\, Maisansalo\, Finland
CATEGORIES:Maisansalo
END:VEVENT
BEGIN:VEVENT
DTSTART;TZID=Europe/Helsinki:20240920T080000
DTEND;TZID=Europe/Helsinki:20240922T170000
DTSTAMP:20260423T043826
CREATED:20240901T164416Z
LAST-MODIFIED:20240901T164416Z
UID:14259-1726819200-1727024400@uusi.sfcpirkanmaa.fi
SUMMARY:VM Syystalkoot ja aluepalaveri
DESCRIPTION:
URL:https://uusi.sfcpirkanmaa.fi/event/vm-syystalkoot-ja-aluepalaveri/
CATEGORIES:Vankkurimännikkö
END:VEVENT
END:VCALENDAR