BEGIN:VCALENDAR
VERSION:2.0
PRODID:-//SF-Caravan Pirkanmaa Ry - ECPv6.15.20//NONSGML v1.0//EN
CALSCALE:GREGORIAN
METHOD:PUBLISH
X-WR-CALNAME:SF-Caravan Pirkanmaa Ry
X-ORIGINAL-URL:https://uusi.sfcpirkanmaa.fi
X-WR-CALDESC:Tapahtumat SF-Caravan Pirkanmaa Ry
REFRESH-INTERVAL;VALUE=DURATION:PT1H
X-Robots-Tag:noindex
X-PUBLISHED-TTL:PT1H
BEGIN:VTIMEZONE
TZID:Europe/Helsinki
BEGIN:DAYLIGHT
TZOFFSETFROM:+0200
TZOFFSETTO:+0300
TZNAME:EEST
DTSTART:20250330T010000
END:DAYLIGHT
BEGIN:STANDARD
TZOFFSETFROM:+0300
TZOFFSETTO:+0200
TZNAME:EET
DTSTART:20251026T010000
END:STANDARD
BEGIN:DAYLIGHT
TZOFFSETFROM:+0200
TZOFFSETTO:+0300
TZNAME:EEST
DTSTART:20260329T010000
END:DAYLIGHT
BEGIN:STANDARD
TZOFFSETFROM:+0300
TZOFFSETTO:+0200
TZNAME:EET
DTSTART:20261025T010000
END:STANDARD
BEGIN:DAYLIGHT
TZOFFSETFROM:+0200
TZOFFSETTO:+0300
TZNAME:EEST
DTSTART:20270328T010000
END:DAYLIGHT
BEGIN:STANDARD
TZOFFSETFROM:+0300
TZOFFSETTO:+0200
TZNAME:EET
DTSTART:20271031T010000
END:STANDARD
END:VTIMEZONE
BEGIN:VEVENT
DTSTART;VALUE=DATE:20260801
DTEND;VALUE=DATE:20260802
DTSTAMP:20260422T020508
CREATED:20260114T180350Z
LAST-MODIFIED:20260114T180350Z
UID:15328-1785542400-1785628799@uusi.sfcpirkanmaa.fi
SUMMARY:Maisansalon lasten lauantai
DESCRIPTION:Lauantai päivä joka vietetään lasten ehdoilla. \nOhjelma julkaistaan kun asiat selviävät.
URL:https://uusi.sfcpirkanmaa.fi/event/maisansalon-lasten-lauantai/
LOCATION:Maisansalo\, Maisansalo\, Finland
CATEGORIES:Maisansalo
END:VEVENT
BEGIN:VEVENT
DTSTART;TZID=Europe/Helsinki:20260807T210000
DTEND;TZID=Europe/Helsinki:20260808T000000
DTSTAMP:20260422T020508
CREATED:20260114T180627Z
LAST-MODIFIED:20260114T180627Z
UID:15330-1786136400-1786147200@uusi.sfcpirkanmaa.fi
SUMMARY:Tanssiorkesteri Ässät
DESCRIPTION:Kaikille tuttu tanssiorkesteri Ässät tulee tanssittamaan meitä Maisa-pubille 7.8.2026 klo 21:00 alkaen. \nTarkempi aikataulu julkaistaan lähempänä tapahtumaa. \nOhjelmarannekkeet tulevat myyntiin elokuun alussa toimistolle. \nEdellyttää alueella yöpymistä.
URL:https://uusi.sfcpirkanmaa.fi/event/tanssiorkesteri-assat/
LOCATION:Maisansalo\, Maisansalo\, Finland
CATEGORIES:Maisansalo
END:VEVENT
BEGIN:VEVENT
DTSTART;TZID=Europe/Helsinki:20260808T100000
DTEND;TZID=Europe/Helsinki:20260808T110000
DTSTAMP:20260422T020508
CREATED:20260114T181025Z
LAST-MODIFIED:20260114T181025Z
UID:15336-1786183200-1786186800@uusi.sfcpirkanmaa.fi
SUMMARY:Maisansalo aluepalaveri
DESCRIPTION:
URL:https://uusi.sfcpirkanmaa.fi/event/maisansalo-aluepalaveri/
LOCATION:Maisansalo\, Maisansalo\, Finland
CATEGORIES:Maisansalo
END:VEVENT
BEGIN:VEVENT
DTSTART;TZID=Europe/Helsinki:20260814T080000
DTEND;TZID=Europe/Helsinki:20260816T170000
DTSTAMP:20260422T020508
CREATED:20251216T114531Z
LAST-MODIFIED:20251216T114531Z
UID:15207-1786694400-1786899600@uusi.sfcpirkanmaa.fi
SUMMARY:Vankkurimännikön 50v juhla
DESCRIPTION:Ohjelma päivitetään myöhemmin
URL:https://uusi.sfcpirkanmaa.fi/event/vankkurimannikon-50v-juhla/
LOCATION:Vankkurimännikkö\, Lakarintie 580\, Virrat\, 34800\, Finland
CATEGORIES:Vankkurimännikkö
END:VEVENT
BEGIN:VEVENT
DTSTART;TZID=Europe/Helsinki:20260828T080000
DTEND;TZID=Europe/Helsinki:20260830T170000
DTSTAMP:20260422T020508
CREATED:20251216T114704Z
LAST-MODIFIED:20251216T114704Z
UID:15209-1787904000-1788109200@uusi.sfcpirkanmaa.fi
SUMMARY:VM Venetsialaiset
DESCRIPTION:Ohjelma päivitetään myöhemmin
URL:https://uusi.sfcpirkanmaa.fi/event/vm-venetsialaiset-2/
LOCATION:Vankkurimännikkö\, Lakarintie 580\, Virrat\, 34800\, Finland
CATEGORIES:Vankkurimännikkö
END:VEVENT
BEGIN:VEVENT
DTSTART;VALUE=DATE:20260829
DTEND;VALUE=DATE:20260830
DTSTAMP:20260422T020508
CREATED:20260114T180759Z
LAST-MODIFIED:20260114T180759Z
UID:15332-1787961600-1788047999@uusi.sfcpirkanmaa.fi
SUMMARY:Maisansalon Venetsialaiset
DESCRIPTION:Tarkempi ohjelma julkaistaan hyvissä ajoin ennen tapahtumaa.
URL:https://uusi.sfcpirkanmaa.fi/event/maisansalon-venetsialaiset/
LOCATION:Maisansalo\, Maisansalo\, Finland
CATEGORIES:Maisansalo
END:VEVENT
END:VCALENDAR