BEGIN:VCALENDAR
VERSION:2.0
PRODID:-//SF-Caravan Pirkanmaa Ry - ECPv6.15.20//NONSGML v1.0//EN
CALSCALE:GREGORIAN
METHOD:PUBLISH
X-WR-CALNAME:SF-Caravan Pirkanmaa Ry
X-ORIGINAL-URL:https://uusi.sfcpirkanmaa.fi
X-WR-CALDESC:Tapahtumat SF-Caravan Pirkanmaa Ry
REFRESH-INTERVAL;VALUE=DURATION:PT1H
X-Robots-Tag:noindex
X-PUBLISHED-TTL:PT1H
BEGIN:VTIMEZONE
TZID:Europe/Helsinki
BEGIN:DAYLIGHT
TZOFFSETFROM:+0200
TZOFFSETTO:+0300
TZNAME:EEST
DTSTART:20250330T010000
END:DAYLIGHT
BEGIN:STANDARD
TZOFFSETFROM:+0300
TZOFFSETTO:+0200
TZNAME:EET
DTSTART:20251026T010000
END:STANDARD
BEGIN:DAYLIGHT
TZOFFSETFROM:+0200
TZOFFSETTO:+0300
TZNAME:EEST
DTSTART:20260329T010000
END:DAYLIGHT
BEGIN:STANDARD
TZOFFSETFROM:+0300
TZOFFSETTO:+0200
TZNAME:EET
DTSTART:20261025T010000
END:STANDARD
BEGIN:DAYLIGHT
TZOFFSETFROM:+0200
TZOFFSETTO:+0300
TZNAME:EEST
DTSTART:20270328T010000
END:DAYLIGHT
BEGIN:STANDARD
TZOFFSETFROM:+0300
TZOFFSETTO:+0200
TZNAME:EET
DTSTART:20271031T010000
END:STANDARD
END:VTIMEZONE
BEGIN:VEVENT
DTSTART;VALUE=DATE:20260430
DTEND;VALUE=DATE:20260504
DTSTAMP:20260421T190307
CREATED:20260114T174910Z
LAST-MODIFIED:20260420T180011Z
UID:15311-1777507200-1777852799@uusi.sfcpirkanmaa.fi
SUMMARY:Maisansalon Vappu (orkesteri+trubaduuri)
DESCRIPTION:Torstai 30.4. Vappuaatto \nToimisto avoinna klo 14:00-20:00 \nSaunavuorot: naiset 17:00-19:00 ja miehet 19:00-21:00 \nMaisa-pubi auki klo 20:30-00:30 \nOrkesteri aloittaa klo 21:00 Joonas Erkkilä & Unelma \nOhjelmamaksu 10€/hlö\, rannekkeiden myynti toimistolla \n\nPerjantai 1.5. Vappupäivä \nToimisto avoinna klo 10:00-13:00 ja 17:00-19:00 \nSaunavuorot: \nNaiset klo 15:00-16:00 ja 17:00-19:00 \nMiehet klo 16:00-17:00 ja 19:00-21:00 \nMaisa-pubi auki klo 20:30-00:30 \nTrubaduuri Pekka aloittaa klo 21:00 \n\nLauantai 2.5. \nToimisto avoinna klo 10:00-13:00 ja 17:00-19:00 \nSaunavuorot: \nNaiset klo 15:00-16:00 ja 17:00-19:00 \nMiehet klo 16:00-17:00 ja 19:00-21:00 \n\nSunnuntai 3.5. \nToimisto avoinna klo 10:00-13:00 \n\nToimistolla myynnissä simaa ja munkkeja torstaista alkaen. \n- Sima 5€/litra ja munkki 2€/kpl \nPubilla sima 1€/muki ja munkki 2€/kpl. \nLapsille tarjolla sima ja munkki ilmaiseksi Vappupäivänä. \n\nKiitos vierailusta ja turvallista kotimatkaa!!! \n\nTapahtuma on järjestetty alueella yöpyville.
URL:https://uusi.sfcpirkanmaa.fi/event/maisansalon-vappu-orkesteri/
LOCATION:Maisansalo\, Maisansalo\, Finland
CATEGORIES:Maisansalo
END:VEVENT
BEGIN:VEVENT
DTSTART;TZID=Europe/Helsinki:20260430T080000
DTEND;TZID=Europe/Helsinki:20260503T170000
DTSTAMP:20260421T190307
CREATED:20251216T112634Z
LAST-MODIFIED:20260411T120300Z
UID:15193-1777536000-1777827600@uusi.sfcpirkanmaa.fi
SUMMARY:Vankkurimännikön Vappu -26\, orkesterina Taxi & Drivers.
DESCRIPTION:Torstai 30.4.\nToimisto avoinna klo 16–19.30\nSaunat: naiset klo 17–19 ja miehet klo 19–21\nLasten karaoke klo 20.30–21.30\naikuisten karaoke 21.30-> \nPerjantai 1.5.\nToimisto avoinna klo 10–13 ja 15–17\nKlo 11 yhteinen kävelylenkki Riihelle\, jossa tarjolla simaa ja munkkia.\nSaunat: naiset klo 17–19 ja miehet klo 19–21\nKlo 21 HuviPub aukeaa ja illalla orkesteritanssit. Meitä tanssittaa Taxi & Drivers. \nLauantai 2.5.\nToimisto avoinna klo 10–13 ja 15–17\nKlo 10 sammutinhuolto\nKlo 11 lasten ja nuorten mölkky. Tarjolla popparia ja hattaraa.\nKlo 12 Männikön mölkyn 2. osakilpailu\nSaunat: naiset klo 17–19 ja miehet klo 19–21\nLasten karaoke klo 20.30–21.30\naikuisten karaoke 21.30-> \nSu 3.5.\nToimisto avoinna klo 10–14 \nKiitos kaikille yhteisestä Vapusta ja tervetuloa uudelleen. \nOhjelmamaksu 10 €/vaunukunta \nToimikunta pidättää oikeuden ohjelmamuutoksiin.
URL:https://uusi.sfcpirkanmaa.fi/event/vm-vappu-26/
LOCATION:Vankkurimännikkö\, Lakarintie 580\, Virrat\, 34800\, Finland
CATEGORIES:Vankkurimännikkö
END:VEVENT
END:VCALENDAR