BEGIN:VCALENDAR
VERSION:2.0
PRODID:-//SF-Caravan Pirkanmaa Ry - ECPv6.15.20//NONSGML v1.0//EN
CALSCALE:GREGORIAN
METHOD:PUBLISH
X-WR-CALNAME:SF-Caravan Pirkanmaa Ry
X-ORIGINAL-URL:https://uusi.sfcpirkanmaa.fi
X-WR-CALDESC:Tapahtumat SF-Caravan Pirkanmaa Ry
REFRESH-INTERVAL;VALUE=DURATION:PT1H
X-Robots-Tag:noindex
X-PUBLISHED-TTL:PT1H
BEGIN:VTIMEZONE
TZID:Europe/Helsinki
BEGIN:DAYLIGHT
TZOFFSETFROM:+0200
TZOFFSETTO:+0300
TZNAME:EEST
DTSTART:20230326T010000
END:DAYLIGHT
BEGIN:STANDARD
TZOFFSETFROM:+0300
TZOFFSETTO:+0200
TZNAME:EET
DTSTART:20231029T010000
END:STANDARD
BEGIN:DAYLIGHT
TZOFFSETFROM:+0200
TZOFFSETTO:+0300
TZNAME:EEST
DTSTART:20240331T010000
END:DAYLIGHT
BEGIN:STANDARD
TZOFFSETFROM:+0300
TZOFFSETTO:+0200
TZNAME:EET
DTSTART:20241027T010000
END:STANDARD
BEGIN:DAYLIGHT
TZOFFSETFROM:+0200
TZOFFSETTO:+0300
TZNAME:EEST
DTSTART:20250330T010000
END:DAYLIGHT
BEGIN:STANDARD
TZOFFSETFROM:+0300
TZOFFSETTO:+0200
TZNAME:EET
DTSTART:20251026T010000
END:STANDARD
END:VTIMEZONE
BEGIN:VEVENT
DTSTART;VALUE=DATE:20240713
DTEND;VALUE=DATE:20240714
DTSTAMP:20260422T110629
CREATED:20240219T051116Z
LAST-MODIFIED:20240219T051116Z
UID:13706-1720828800-1720915199@uusi.sfcpirkanmaa.fi
SUMMARY:Maisan petanque kilpailut
DESCRIPTION:Lisätietoja tapahtumasta julkaistaan lähempänä tapahtumaa
URL:https://uusi.sfcpirkanmaa.fi/event/maisan-petanque-kilpailut/
LOCATION:Maisansalo\, Maisansalo\, Finland
CATEGORIES:Maisansalo
END:VEVENT
BEGIN:VEVENT
DTSTART;TZID=Europe/Helsinki:20240621T200000
DTEND;TZID=Europe/Helsinki:20240622T003000
DTSTAMP:20260422T110629
CREATED:20230903T182834Z
LAST-MODIFIED:20240514T163730Z
UID:13134-1719000000-1719016200@uusi.sfcpirkanmaa.fi
SUMMARY:JUHANNUSTANSSIT / FINLANDERS !
DESCRIPTION:Kirsikkana kakun päällä Juhannusaattona 21.06.-24 Finlanders tanssittamassa. \nOhjelmamaksu 10€/hlö. \nHuomaathan että tapahtuma on järjestetty vain alueella yöpyville ja/tai kausipaikan vuokranneille. Tapahtumasta päivitetään tarkempaa tietoa  lähempänä ajankohtaa. Muutokset mahdollisia. \n \n 
URL:https://uusi.sfcpirkanmaa.fi/event/juhannusaattona-finlanders-tanssittaa/
LOCATION:Maisansalo\, Maisansalo\, Finland
CATEGORIES:Maisansalo
END:VEVENT
BEGIN:VEVENT
DTSTART;TZID=Europe/Helsinki:20240621T080000
DTEND;TZID=Europe/Helsinki:20240623T170000
DTSTAMP:20260422T110629
CREATED:20240128T110906Z
LAST-MODIFIED:20240612T094137Z
UID:13624-1718956800-1719162000@uusi.sfcpirkanmaa.fi
SUMMARY:Vankkurimännikön Juhannus 2024\, Yötaivas tanssittaa
DESCRIPTION:PERJANTAI:\nToimisto auki 10.00-14.00 ja 15.00-17.00\n-Yhteinen lipun nosto klo 18.00 lasten leikkikentän takana olevilla\nlipputangoilla.\nLippulaulun sanat löytyy täältä SINIRISTILIPPUMME\n-Juhannusaaton tansseissa tahdit takaa Tanssiorkesteri Yötaivas.\nHuviPubi aukeaa klo 21.00\n-Saunat N 16.00-18.00 ja M 18.00-20.00\nArpalipukkeita ostettavissa sunnuntain arpajaisiin toimistolta sekä\npubista näiden ollessa auki! \nLAUANTAI:\nToimisto auki 10.00-14.00 ja 15.00-17.00\nSammutinhuoltoa pikkurahalla.\nKuulutamme alueella\, kun huoltoauto on saapunut..\n-Lasten Olympialaiset: lajeina pallon heitto\, renkaan heitto ja\npussihyppelyä! Aloitus klo 11.00\n- Ponitalutusta klo. 11.00-13.00\n-Polkuautokisa: sarjat alle 7 vuotiaille sekä yli 7 vuotiaille. Kisaan\nlähtö polkuautoparkista klo 13.00\n-Popparia ja hattaraa saatavilla klo 13.30 alkaen\n-Kauko-ohjattavien autojen kisa hiekkakentällä klo 14.00\n-Bingo lapsille klo 15.15 ja aikuisille 16.00 HuviPubissa. (Säiden\nsalliessa bingo pidetään Harald’s Pubin terassilla. Tästä\ntiedotetaan!) Aikuisille bingolapun hinta on 1e/kpl\n-Saunat N 17.00-19.00 ja M 19.00-21.00 \nSUNNUNTAI:\nToimisto auki 10.00-15.00\n-Arpajaiset klo 12.00 toimiston terassin läheisyydessä. Luvassa\nhuikeita palkintoja!\nKiitos kivasta juhannuksesta ja turvallista kotimatkaa! \nTapahtumamaksu 10€/vaunukunta\nToimikunta pidättää oikeuden ohjelmamuutoksiin. \nJuhannuksen aikana virallinen jatkopaikka ( Pe ja La ilta ) on RIIHELLÄ. \n\n\n 
URL:https://uusi.sfcpirkanmaa.fi/event/vankkurimannikon-juhannus-2024/
LOCATION:Vankkurimännikkö\, Lakarintie 580\, Virrat\, 34800\, Finland
CATEGORIES:Vankkurimännikkö
END:VEVENT
BEGIN:VEVENT
DTSTART;TZID=Europe/Helsinki:20240614T080000
DTEND;TZID=Europe/Helsinki:20240616T170000
DTSTAMP:20260422T110629
CREATED:20240128T110515Z
LAST-MODIFIED:20240602T163709Z
UID:13622-1718352000-1718557200@uusi.sfcpirkanmaa.fi
SUMMARY:Lastenviikonloppu 2024
DESCRIPTION:PERJANTAI:\nToimisto auki 9.00-21.00\n-Saunat N 17.00-19.00 ja M 19.00-21.00 \nLAUANTAI:\n\nToimisto auki 10.00-14.00 ja 15.00-17.00\n-Koronakisa yli 7 vuotiaille klo 11.00\n-Mölkkykisa alle 7 vuotiaille klo 11.00\n-Popparia ja hattaraa saatavilla klo 11.00 alkaen\n-Poniratsastusta hiekkakentällä klo 11.00 alkaen\n-Nalle-sairaala Huvikummussa klo. 14.00\n-Lasten karaoke HuviPubissa klo 19.00 alkaen\n-Saunat N 17.00-19.00 ja M 19.00-21.00\n \nSUNNUNTAI:\nToimisto auki klo 10.00-15.00
URL:https://uusi.sfcpirkanmaa.fi/event/lastenviikonloppu/
LOCATION:Vankkurimännikkö\, Lakarintie 580\, Virrat\, 34800\, Finland
CATEGORIES:Vankkurimännikkö
END:VEVENT
BEGIN:VEVENT
DTSTART;TZID=Europe/Helsinki:20240608T130000
DTEND;TZID=Europe/Helsinki:20240608T163000
DTSTAMP:20260422T110629
CREATED:20240512T150101Z
LAST-MODIFIED:20240515T162031Z
UID:13933-1717851600-1717864200@uusi.sfcpirkanmaa.fi
SUMMARY:SFC-Pirkanmaa ry. kevätkokous 2024
DESCRIPTION:Huomaathan\, että kutsussa on 4 sivua\n\n\n\n 
URL:https://uusi.sfcpirkanmaa.fi/event/sfc-pirkanmaa-ry-kevatkokous-2024/
LOCATION:Kokoushotelli Murikanranta\, Kuterintie 226\, Terälahti\, 34260
CATEGORIES:Yhdistys
END:VEVENT
BEGIN:VEVENT
DTSTART;VALUE=DATE:20240606
DTEND;VALUE=DATE:20240607
DTSTAMP:20260422T110629
CREATED:20240219T162953Z
LAST-MODIFIED:20240309T113804Z
UID:13717-1717632000-1717718399@uusi.sfcpirkanmaa.fi
SUMMARY:Teatteritreffien ilmoittautuminen päättyy
DESCRIPTION:Tänään on viimeinen päivä ilmoittautua mukaan elokuussa järjestettäville Maisansalon teatteritreffeille.\nSamoin osallistumismaksu pitää suorittaa viimeistään tänään\, alla tiedot maksua varten. \nOsallistumismaksu 38€/hlö - kuljetuksen tarjoaa SFC Maisansalo \nTilinumero: FI42 1148 3000 1006 23\nMaksun saaja: SFC Pirkanmaa\nHUOM!! Laskun viestikenttään kirjoitettava osallistujien nimet
URL:https://uusi.sfcpirkanmaa.fi/event/teatteritreffien-ilmoittautuminen-paattyy/
LOCATION:Maisansalo\, Maisansalo\, Finland
CATEGORIES:Maisansalo
END:VEVENT
BEGIN:VEVENT
DTSTART;TZID=Europe/Helsinki:20240517T080000
DTEND;TZID=Europe/Helsinki:20240519T170000
DTSTAMP:20260422T110629
CREATED:20240429T094915Z
LAST-MODIFIED:20240429T094915Z
UID:13867-1715932800-1716138000@uusi.sfcpirkanmaa.fi
SUMMARY:Kevättalkoot 2024
DESCRIPTION:Toivomme kausipaikkalaisten runsasta osallistumista talkoisiin. \n\nTehtävänjako lauantai-aamuna klo 9.00 toimistolla\nNuorille tehtävänjako klo 10.30 toimistolla\n\nTalkooporukalle tarjolla talkookahvia ja -soppaa. \nKausipaikkalaiset voivat jo ennakkoon haravoida oman vaununsa ympäristöstä puunlehdet ja muut risut kasalle\, jotka kerätään lauantaina pois.\nTalkoiden tarkoitus on siistiä ensijaisesti kaikki yhteiset ja yleiset alueet. \nVierailijoilta emme toki odota osallistumista\, mutta toki otamme teidät ilomielin mukaan talkoisiin\, jos osallistumishalukkuutta on. \n 
URL:https://uusi.sfcpirkanmaa.fi/event/kevattalkoot-2024/
LOCATION:Vankkurimännikkö\, Lakarintie 580\, Virrat\, 34800\, Finland
CATEGORIES:Vankkurimännikkö
END:VEVENT
BEGIN:VEVENT
DTSTART;TZID=Europe/Helsinki:20240511T130000
DTEND;TZID=Europe/Helsinki:20240511T150000
DTSTAMP:20260422T110629
CREATED:20240219T051009Z
LAST-MODIFIED:20240507T180325Z
UID:13704-1715432400-1715439600@uusi.sfcpirkanmaa.fi
SUMMARY:Maisan äitienpäivä - Kakkukahvit
DESCRIPTION:Tervetuloa kakkukahville Äitienpäivän merkeissä lauantaina 11.5. klo 13.00 \nHuomaathan\, että kahvittelu on järjestetty vain alueella yöpyville ja/tai kausipaikan vuokranneille.
URL:https://uusi.sfcpirkanmaa.fi/event/maisan-aitienpaiva-kakkukahvit/
LOCATION:Maisansalo\, Maisansalo\, Finland
CATEGORIES:Maisansalo
END:VEVENT
BEGIN:VEVENT
DTSTART;TZID=Europe/Helsinki:20240511T080000
DTEND;TZID=Europe/Helsinki:20240511T170000
DTSTAMP:20260422T110629
CREATED:20240128T110227Z
LAST-MODIFIED:20240502T132707Z
UID:13620-1715414400-1715446800@uusi.sfcpirkanmaa.fi
SUMMARY:Äitienpäivä ja aluepalaveri 2024
DESCRIPTION:Aloitetaan aluepalaveri klo. 12:00.\nSen jälkeen\, kun kaikki asiat on hyvällä mallilla nautimme äitienpäiväkakkukahvit.
URL:https://uusi.sfcpirkanmaa.fi/event/aitienpaiva/
LOCATION:Vankkurimännikkö\, Lakarintie 580\, Virrat\, 34800\, Finland
CATEGORIES:Vankkurimännikkö
END:VEVENT
BEGIN:VEVENT
DTSTART;TZID=Europe/Helsinki:20240503T080000
DTEND;TZID=Europe/Helsinki:20240505T170000
DTSTAMP:20260422T110629
CREATED:20240127T160716Z
LAST-MODIFIED:20240424T053749Z
UID:13612-1714723200-1714928400@uusi.sfcpirkanmaa.fi
SUMMARY:Vankkurimännikön myöhästynyt Vappurieha 2024\, Ässät tanssittaa
DESCRIPTION:Perjantai:\nsaunat N 17.00-19.00 ja M 19.00-21.00\nLasten Karaoke Huvipubissa 20.30-21.30\nKaraoke HuviPubissa 21.30 -> \nLauantai:\n- Sokkotikan heittoa klo. 13-> n urmikentällä Huvikummun takana.\n* Lapsille ilmainen\, aikuisille 3 heittoa/1€\n- Simaa\, munkkia ja ilmapalloja on tarjolla toimistolla!\n- Palokunnan kalustoesittelyä takkatuvan kentällä klo. 12 - 14\n- Sammutinhuolto alueella.\nIllalla HuviPubi aukeaa klo 21.00. Tansseista vastaa Tanssiorkesteri Ässät\nsaunat N 16.00-18.00 ja M 18.00-20.00 \n \nSunnuntai:\nhyvää kotimatkaa! \nTreffimaksu 10€ / vaunukunta
URL:https://uusi.sfcpirkanmaa.fi/event/vankkurimannikon-myohastynyt-vappurieha-2024/
LOCATION:Vankkurimännikkö\, Lakarintie 580\, Virrat\, 34800\, Finland
CATEGORIES:Vankkurimännikkö
END:VEVENT
BEGIN:VEVENT
DTSTART;TZID=Europe/Helsinki:20240430T210000
DTEND;TZID=Europe/Helsinki:20240501T140000
DTSTAMP:20260422T110629
CREATED:20231025T060127Z
LAST-MODIFIED:20240219T050906Z
UID:13438-1714510800-1714572000@uusi.sfcpirkanmaa.fi
SUMMARY:Vappuaaton tanssit - Tanssiorkesteri Ässät
DESCRIPTION:Vappuaatto 30.4. ja Vappupäivänä 1.5.-24 Tanssiyhtye Ässät\, jotka taas tanssittavat Vappupäivänä myös pari tuntia päivätansseissa. \nOhjelmamaksu 10€/hlö. \nHuomaathan että tapahtuma on järjestetty vain alueella yöpyville ja/tai kausipaikanvuokranneille. Päivitämme lisätietoja tapahtumasta lähempänä ajankohtaa. Muutokset mahdollisia. \n \n 
URL:https://uusi.sfcpirkanmaa.fi/event/vapputanssit/
LOCATION:Maisansalo\, Maisansalo\, Finland
CATEGORIES:Maisansalo
END:VEVENT
BEGIN:VEVENT
DTSTART;TZID=Europe/Helsinki:20240430T170000
DTEND;TZID=Europe/Helsinki:20240501T160000
DTSTAMP:20260422T110629
CREATED:20240419T165930Z
LAST-MODIFIED:20240419T165930Z
UID:13905-1714496400-1714579200@uusi.sfcpirkanmaa.fi
SUMMARY:Maisansalon Vappu
DESCRIPTION:MAISANSALON VAPUN OHJELMA \n30.4 Tiistai – Vappuaatto \n- Toimisto auki klo 17.00 – 20.00\n- Rantasaunan vuorot: Naiset klo 17.00-19.00 ja miehet klo 19.00-21.00\n- Pubi auki klo 20.00 – 00.30 – valomerkki klo 00.00\n- Pubin grilli auki klo 20.00 – 22.00\n- Tanssiorkesteri Ässät aloittaa klo 21.00 \n1.5. Keskiviikko – Vapunpäivä \n- Toimisto auki klo 10.00-16.00\n- Päivätanssit Ässien tahtiin klo 12.00 – 14.00\n- Bingo Maisa-pubissa klo 15.00 alkaen\n- Lapsille tarjolla simaa ja munkkeja ilmaiseksi\n- Aikuisille saatavilla myös simaa ja munkkeja pientä korvausta vastaan\n- Rantasaunan vuorot: Naiset klo 17.00-19.00 ja miehet klo 19.00-21.00 \nHuomaathan\, että tapahtumat on järjestetty vain alueella yöpyville ja/tai kausipaikan\nvuokranneille. Orkesterimaksu 10€/hlö – maksu sisältyy 6kk/12kk kausipaikan hintaan.
URL:https://uusi.sfcpirkanmaa.fi/event/maisansalon-vappu/
LOCATION:Maisansalo\, Maisansalo\, Finland
CATEGORIES:Maisansalo
END:VEVENT
BEGIN:VEVENT
DTSTART;TZID=Europe/Helsinki:20240329T210000
DTEND;TZID=Europe/Helsinki:20240330T003000
DTSTAMP:20260422T110629
CREATED:20230903T173406Z
LAST-MODIFIED:20240317T195955Z
UID:13121-1711746000-1711758600@uusi.sfcpirkanmaa.fi
SUMMARY:PÄÄSIÄISTANSSIT / THE BLUE BEAT
DESCRIPTION:Pitkäperjantaina 29.03.-24 YLEISÖN PYYNNÖSTÄ\, ERITTÄIN TYKÄTTY RAUTALANKAVETOINEN  THE BLUE BEAT !   \n The Blue Beat on 5-henkinen orkesteri\, joka esittää tanssittavaa\, viihdyttävää ja sukan alle menevää musiikkia aikuiseen makuun\, tanssiklassikoita – rautalankaa – baddingiä – sorsakoskea – ym. Sekaan mahtuu myös uudempaa tanssimusiikkia.  \nHuomaathan että tapahtuma on järjestetty vain alueella yöpyville ja/tai kausipaikan vuokranneille.
URL:https://uusi.sfcpirkanmaa.fi/event/paasiainen-tanssiyhtye-helminauha/
LOCATION:Maisansalo\, Maisansalo\, Finland
CATEGORIES:Maisansalo
END:VEVENT
BEGIN:VEVENT
DTSTART;TZID=Europe/Helsinki:20240329T080000
DTEND;TZID=Europe/Helsinki:20240401T170000
DTSTAMP:20260422T110629
CREATED:20240127T160311Z
LAST-MODIFIED:20240327T162251Z
UID:13610-1711699200-1711990800@uusi.sfcpirkanmaa.fi
SUMMARY:Pääsiäinen Vankkurimännikössä 2024\, Orkesteritanssit - Isto Hiltunen
DESCRIPTION:Torstai:\n- Saunat N 17.00-19.00\, M 19.00-21.00 \nPerjantai:\n- Kiviarinauuni lämpimänä\n- Pääsiäismunien etsintää\, alueena leikkikenttä\n- VM-Bilis Winter open 2024\, 1. pelipäivä\nTule haastamaan hallitseva mestari.\n- Karaoke 21.30-00.30\, lapset 20.30-21.30\n- Saunat N 17.00-19.00\, M 19.00-21.00 \nLauantai:\n- Kiviarinauuni lämpimänä\n- Pääsiäisaskartelua HuviPubissa. Vitsojen tekoa sekä muuta\naskarreltavaa!\n- Männikön Höntsääjien Mämmikoura lentisturnaus kisapirtillä  klo. 13.00 - 16.00\nTurnaus on avoin kaikille lentopallosta kiinnostuneille karavaanareille.\n- Isto Hiltunen HuviPubissa. Pubi aukeaa klo 21.00\n- Saunat N 16.00-18.00\, M 18.00-20.00 \nSunnuntai:\n- Pääsiäiskulkue\, jossa tarkoitus virpoa. Lähtö toimistolta.\nHUOM! Mikäli haluat\, että lapset virpovat paikallasi\, haethan toimistolta\nmerkkilapun. Näin kulkue osaa saapua paikallesi!\n- VM-Bilis Winter open 2024\, 2. pelipäivä\n- Poniratsastus 11-13. Ohessa poppareita\, hattaroita ja mehua!\n- Virpomiskiertue 13.15\, lähtö toimistolta\n- Bingo: lapset 15.00\, aikuiset 15.45. Aikuisten bingolappu 1€/kpl\n- Saunat N 17.00-19.00\, M 19.00-21.00 \n  \n \n  \nToimikunta pidättää oikeuden muutoksiin. \nTilaussauna Patonen on nyt varattavissa. \nTreffimaksu 10€/vaunukunta
URL:https://uusi.sfcpirkanmaa.fi/event/paasiainen-vankkurimannikossa-2024/
LOCATION:Vankkurimännikkö\, Lakarintie 580\, Virrat\, 34800\, Finland
CATEGORIES:Vankkurimännikkö
END:VEVENT
BEGIN:VEVENT
DTSTART;TZID=Europe/Helsinki:20240328T170000
DTEND;TZID=Europe/Helsinki:20240401T130000
DTSTAMP:20260422T110629
CREATED:20240318T161639Z
LAST-MODIFIED:20240318T161639Z
UID:13818-1711645200-1711976400@uusi.sfcpirkanmaa.fi
SUMMARY:Maisansalon pääsiäinen 2024
DESCRIPTION:Tervetuloa viettämään mukavaa ja ohjelman täyteistä pääsiäistä SFC Maisansalon leirintäalueelle. \nTorstaina 28.3.\n- Toimisto avoinna klo 17.00-20.00\n- Rantasaunan yleiset vuorot: naiset klo 17.00-19.00 ja miehet klo 19.00-21.00 \nPerjantai 29.3.\n- Toimisto avoinna klo 10.00-14.00 ja 17.00-19.00\n- Rantasaunan yleiset vuorot: naiset klo 17.00-19.00 ja miehet klo 19.00-21.00\n- Maisa-pubi ja grilli aukeaa klo 20.00 ja The Blue Beat aloittaa noin klo 21.00 kts. erillinen ilmoitus \nLauantai 30.3.\n- Toimisto avoinna klo 10.00-14.00 ja 17.00-19.00\n- Rantasaunan yleiset vuorot: naiset klo 16.00-18.00 ja miehet klo 19.00-21.00\n- Maisa-pubissa Maisa Hold’em pelit klo 14.00 alkaen. Pubi ja grilli palvelee ainakin pelien ajan.\n- Lapsille nuorisotilassa puuhasteltavaa ja sään salliessa ulkona kisailua sekä pääsiäisaarteen etsintää\n- Pääsiäiskokko rantasaunan viereisellä kokkopaikalla klo 18.00 \nSunnuntai 31.3.\n- Toimisto avoinna klo 10.00-14.00 ja 17.00-19.00\n- Rantasaunan yleiset vuorot: naiset klo 17.00-19.00 ja miehet klo 19.00-21.00\n- Bingo Maisa-pubissa lapsille klo 13.00 ja aikuisille klo 15.00 - ei osallistumismaksua\n- Maisa-pubi auki klo 13.00 alkaen\, mutta lasten bingon aikana ei ole alkoholin myyntiä \nMaanantain 1.4.\n- Toimisto avoinna klo 10.00-13.00 \nKiitos vierailusta\, tervetuloa uudelleen ja turvallista kotimatkaa!! \n 
URL:https://uusi.sfcpirkanmaa.fi/event/maisansalon-paasiainen-2024/
LOCATION:Maisansalo\, Maisansalo\, Finland
CATEGORIES:Maisansalo
END:VEVENT
BEGIN:VEVENT
DTSTART;TZID=Europe/Helsinki:20240316T120000
DTEND;TZID=Europe/Helsinki:20240316T150000
DTSTAMP:20260422T110629
CREATED:20240218T203327Z
LAST-MODIFIED:20240218T203327Z
UID:13696-1710590400-1710601200@uusi.sfcpirkanmaa.fi
SUMMARY:Maisa-pubi auki
DESCRIPTION:Jos ei pilkkikilpailussa osunut palkinto omalle kohdalle\, niin ei hätää… \nMaisa-pubi on auki päivällä ja sieltä voit ostaa itsellesi palkintojuomat\, klo 12.00 - 15.00
URL:https://uusi.sfcpirkanmaa.fi/event/maisa-pubi-auki/
LOCATION:Maisansalo\, Maisansalo\, Finland
CATEGORIES:Maisansalo
END:VEVENT
BEGIN:VEVENT
DTSTART;TZID=Europe/Helsinki:20240316T110000
DTEND;TZID=Europe/Helsinki:20240316T130000
DTSTAMP:20260422T110629
CREATED:20240218T202820Z
LAST-MODIFIED:20240221T184134Z
UID:13694-1710586800-1710594000@uusi.sfcpirkanmaa.fi
SUMMARY:Maisan Olutpilkki & Mehupilkki 2024
DESCRIPTION:Perinteeksi muodostunut leikkimielinen Maisan Olutpilkki ja Mehupilkki. \nSarjat: lapset ja aikuiset\nOsallistumismaksu: lasten sarjassa kaksi pillimehua\, aikuisten sarjassa kaksi tölkillistä olutta \nSarjojen voittajan ratkaisee saatujen kalojen määrä.\nEnnakkoon kairatut reiät on numeroitu ja ne arvotaan kilpailun alussa. \nOsallistuminen edellyttää alueella yöpymistä. \nIlmoittautuminen alueen toimistolla. \n 
URL:https://uusi.sfcpirkanmaa.fi/event/maisan-olutpilkki-mehupilkki-2024/
LOCATION:Maisansalo\, Maisansalo\, Finland
CATEGORIES:Maisansalo
END:VEVENT
BEGIN:VEVENT
DTSTART;TZID=Europe/Helsinki:20240316T080000
DTEND;TZID=Europe/Helsinki:20240316T170000
DTSTAMP:20260422T110629
CREATED:20240129T135341Z
LAST-MODIFIED:20240315T121808Z
UID:13633-1710576000-1710608400@uusi.sfcpirkanmaa.fi
SUMMARY:Vankkurimännikön 1. pilkkikilpailut
DESCRIPTION:Kilpailupaikkana toimii läheinen Kangasjärvi\nKilpailu alkaa klo.12:00 ja kilpailuaika on 2h.\nParkkipaikkana toimii Lakarin leirintäalue\n \n• Tarjolla: Makkaraa\, mehua\, kuumaa juomaa\, nakkeja\n• Palkinnot: kolme parasta palkitaan / sarja\n• Osallistumismaksu aikuisille 5e\n• Sarjat: miehet\, naiset\, nuoret 10-17v ja lapset 0-10v\, ilmottautuminen toimistolle\nperjantaihin klo 19.00 mennessä.\n• Koko kilpailun suurimman ja pienimmän kalan palkinnot\n• Pelastusliivit lapsille pakolliset\, aikuisille mukaan \nPalkintojen jako klo 16:00 Vankkurimännikön Huvikummulla. \nTervetuloa viihtymään koko perheellä.
URL:https://uusi.sfcpirkanmaa.fi/event/vankkurimannikon-1-pilkkikilpailut/
LOCATION:Vankkurimännikkö\, Lakarintie 580\, Virrat\, 34800\, Finland
CATEGORIES:Vankkurimännikkö
END:VEVENT
BEGIN:VEVENT
DTSTART;TZID=Europe/Helsinki:20240308T130000
DTEND;TZID=Europe/Helsinki:20240310T140000
DTSTAMP:20260422T110629
CREATED:20240218T201346Z
LAST-MODIFIED:20240218T201346Z
UID:13692-1709902800-1710079200@uusi.sfcpirkanmaa.fi
SUMMARY:Hymer Club Finland talvipäivät 2024
DESCRIPTION:Hymer Club Finland tulee viettämään talvipäivät 2024 viikonloppua Maisansaloon. \nTervetuloa !!! \n 
URL:https://uusi.sfcpirkanmaa.fi/event/hymer-club-finland-talvipaivat-2024/
LOCATION:Maisansalo\, Maisansalo\, Finland
CATEGORIES:Maisansalo
END:VEVENT
BEGIN:VEVENT
DTSTART;TZID=Europe/Helsinki:20240302T120000
DTEND;TZID=Europe/Helsinki:20240302T150000
DTSTAMP:20260422T110629
CREATED:20240218T173515Z
LAST-MODIFIED:20240218T173719Z
UID:13682-1709380800-1709391600@uusi.sfcpirkanmaa.fi
SUMMARY:Maisa-pubissa pilkkikilpailujen jälkipelit
DESCRIPTION:Maisa-pubissa hyvä käydä huuhtomassa janojuomilla pilkkikilpailun rasitukset pois ja suorittaa jälkipelit
URL:https://uusi.sfcpirkanmaa.fi/event/maisa-pubissa-pilkkikilpailujen-jalkipelit/
LOCATION:Maisansalo\, Maisansalo\, Finland
CATEGORIES:Maisansalo
END:VEVENT
BEGIN:VEVENT
DTSTART;TZID=Europe/Helsinki:20240302T100000
DTEND;TZID=Europe/Helsinki:20240302T130000
DTSTAMP:20260422T110629
CREATED:20240218T171915Z
LAST-MODIFIED:20240221T184232Z
UID:13669-1709373600-1709384400@uusi.sfcpirkanmaa.fi
SUMMARY:Maisan pilkkikilpailut
DESCRIPTION:Sarjat: nuoret\, naiset ja miehet\nKalojen yhteispaino ratkaisee kunkin sarjan voittajan. \nOsallistuminen edellyttää alueella yöpymistä. \nIlmoittautumiset alueen toimistolle. \nToimisto auki perjantaina 1.3. klo 17.00-20.00 ja aukeaa lauantaina klo 9.00
URL:https://uusi.sfcpirkanmaa.fi/event/maisan-pilkkikilpailut/
LOCATION:Maisansalo\, Maisansalo\, Finland
CATEGORIES:Maisansalo
END:VEVENT
BEGIN:VEVENT
DTSTART;TZID=Europe/Helsinki:20240301T200000
DTEND;TZID=Europe/Helsinki:20240301T233000
DTSTAMP:20260422T110629
CREATED:20240218T172713Z
LAST-MODIFIED:20240218T173139Z
UID:13676-1709323200-1709335800@uusi.sfcpirkanmaa.fi
SUMMARY:Maisa-pubi auki + karaoke
DESCRIPTION:Karaokea Maisa-pubissa
URL:https://uusi.sfcpirkanmaa.fi/event/maisa-pubi-auki-karaoke/
LOCATION:Maisansalo\, Maisansalo\, Finland
CATEGORIES:Maisansalo
END:VEVENT
BEGIN:VEVENT
DTSTART;TZID=Europe/Helsinki:20240229T140000
DTEND;TZID=Europe/Helsinki:20240229T150000
DTSTAMP:20260422T110629
CREATED:20240228T190547Z
LAST-MODIFIED:20240228T190553Z
UID:13759-1709215200-1709218800@uusi.sfcpirkanmaa.fi
SUMMARY:Lettujen paistoa 29.2. klo 14.00-15.00
DESCRIPTION:Lettujen paistoa alueella yöpyville klo 14.00-15.00 toimiston läheisyydessä / pubilla
URL:https://uusi.sfcpirkanmaa.fi/event/lettujen-paistoa-29-2-klo-14-00-15-00/
LOCATION:Maisansalo\, Maisansalo\, Finland
CATEGORIES:Maisansalo
END:VEVENT
BEGIN:VEVENT
DTSTART;TZID=Europe/Helsinki:20240227T130000
DTEND;TZID=Europe/Helsinki:20240227T130000
DTSTAMP:20260422T110629
CREATED:20240225T115024Z
LAST-MODIFIED:20240225T115056Z
UID:13736-1709038800-1709038800@uusi.sfcpirkanmaa.fi
SUMMARY:Makkaranpaistoa rannalla
DESCRIPTION:Alueella majoittuville makkaranpaistoa rannalla. \nSäävaraus!!
URL:https://uusi.sfcpirkanmaa.fi/event/makkaranpaistoa-rannalla/
LOCATION:Maisansalo\, Maisansalo\, Finland
CATEGORIES:Maisansalo
END:VEVENT
BEGIN:VEVENT
DTSTART;TZID=Europe/Helsinki:20240224T140000
DTEND;TZID=Europe/Helsinki:20240224T160000
DTSTAMP:20260422T110629
CREATED:20240218T172032Z
LAST-MODIFIED:20240218T173036Z
UID:13671-1708783200-1708790400@uusi.sfcpirkanmaa.fi
SUMMARY:Päiväkaraoke lapsille ja aikuisille
DESCRIPTION:Maisa-pubin päiväkaraoke lapsille ja aikuisille
URL:https://uusi.sfcpirkanmaa.fi/event/paiva-karaoke-lapsille-ja-aikuisille/
LOCATION:Maisansalo\, Maisansalo\, Finland
CATEGORIES:Maisansalo
END:VEVENT
BEGIN:VEVENT
DTSTART;TZID=Europe/Helsinki:20240224T120000
DTEND;TZID=Europe/Helsinki:20240224T120000
DTSTAMP:20260422T110629
CREATED:20240218T170911Z
LAST-MODIFIED:20240218T174236Z
UID:13667-1708776000-1708776000@uusi.sfcpirkanmaa.fi
SUMMARY:Uuden nuorisotilan avajaiset
DESCRIPTION:Uuden nuorisotilan avajaiset klo 12.00\nLapsille ja nuorille pientä purtavaa ja juotavaa.
URL:https://uusi.sfcpirkanmaa.fi/event/uuden-nuorisotilan-avaijaiset/
LOCATION:Maisansalo\, Maisansalo\, Finland
CATEGORIES:Maisansalo
END:VEVENT
BEGIN:VEVENT
DTSTART;TZID=Europe/Helsinki:20240223T200000
DTEND;TZID=Europe/Helsinki:20240223T233000
DTSTAMP:20260422T110629
CREATED:20240218T172521Z
LAST-MODIFIED:20240218T174255Z
UID:13673-1708718400-1708731000@uusi.sfcpirkanmaa.fi
SUMMARY:Maisa-pubi auki + karaoke
DESCRIPTION:Karaokea Maisa-pubissa
URL:https://uusi.sfcpirkanmaa.fi/event/maisa-pubin-karaoke/
LOCATION:Maisansalo\, Maisansalo\, Finland
CATEGORIES:Maisansalo
END:VEVENT
BEGIN:VEVENT
DTSTART;TZID=Europe/Helsinki:20240223T080000
DTEND;TZID=Europe/Helsinki:20240303T170000
DTSTAMP:20260422T110629
CREATED:20240127T160132Z
LAST-MODIFIED:20240221T161054Z
UID:13608-1708675200-1709485200@uusi.sfcpirkanmaa.fi
SUMMARY:Vankkurimännikön hiihtoloma 2024\, Orkesteritanssit
DESCRIPTION:Alustava ohjelma hiihtolomaviikolle.\nHiihtoloman aloittavalta viikonlopulta peritään treffimaksu 10€/vaunukunta. \nPerjantai 23.2.\n-Lasten Karaoke klo. 20:30→\n-Aikuisten Karaoke klo. 21:30→ \nLauantai 24.2.\n-Orkesteritanssit Huvipubissa 22:00→ \n\n\n\n\n\n\n\n\n  \nMaanantai 26.2. \n-Piirustuskilpailu klo 11.00 eteenpäin; perjantaihin saakka asti aikaa äänestää parhain piirustus. Kolme parasta palkitaan!\n-Mikäli sää sallii: tarkkuusheittoa lumipalloilla klo. 13.30 alkaen! \nTiistai 27.2.\n-Lautapelejä Huvarilla klo 11.00-12.30\n-Lasten leffahetki Huvarilla klo 13.00 alkaen \nKeskiviikko 28.2.\n-Bingolenkki keskiviikosta lauantaihin klo 16.00 saakka! Yhteislähtö keskiviikkona toimiston edustalta klo 12.00\n-Lasten karaoke klo 14.00-16.00 \nTorstai 29.2.\nPukkivuori-päivä (grillausta kuumaa mehua/kaakaota\, laskettelua\, pulkkamäki) \nPerjantai 1.3.\n-Tandem-hiihto + aikuisille rautakangen heitto + lasten porkan heitto klo 10.00 alkaen\n-Lasten bingo klo 13.00 ja aikuisten bingo klo 13.45 Huvarilla\n-Napakymppi Huvarilla ennen karaokea klo 20.30 alkaen\nHUOM SAUNA-AJAT: N 16-18 ja M 18-20\n-Lasten karaoke ennen varsinaista karaokea \nLauantai 2.3.\n-Jalkapallo-ottelu klo 11.30 alkaen\n-Lättyjen paistoa klo 11.15 alkaen toimiston edustalla\n-Lasten tietovisa Huvarilla klo 14.00\n-Illalla lasten karaoke 20.30-21.30 \nSunnuntai 3.3.\nHyvää kotimatkaa! \n  \nToimikunta varaa oikeuden ohjelmistomuutoksiin. \n  \n 
URL:https://uusi.sfcpirkanmaa.fi/event/vankkurimannikon-hiihtoloma-2024/
LOCATION:Vankkurimännikkö\, Lakarintie 580\, Virrat\, 34800\, Finland
CATEGORIES:Vankkurimännikkö
END:VEVENT
BEGIN:VEVENT
DTSTART;VALUE=DATE:20240223
DTEND;VALUE=DATE:20240304
DTSTAMP:20260422T110629
CREATED:20240218T175123Z
LAST-MODIFIED:20240218T204525Z
UID:13688-1708646400-1709510399@uusi.sfcpirkanmaa.fi
SUMMARY:Hiihtoloma Maisansalossa
DESCRIPTION:Hiihtolomaviikon ohjelmaa Maisansalossa: \nPerjantaina 23.02. Karaokea Maisa-pubissa klo 20.00-23.30\n\nLauantaina 24.02. Uuden nuorisotilan avajaiset klo 12.00\, lapsille ja nuorille pientä purtavaa.\nPäivällä Maisa-pubissa voi laulaa karaokea lapset sekä aikuiset klo 14.00-16.00 \nViikon 9 aikana järjestämme ohjelmaa kaiken ikäisille\, esimerkiksi jäällä curlingia\, mölkkyä\, pulkkamäkeä\, hiihtoa\, makkaranpaistoa rannalla jne… Säävaraus!! \nMahdollisuus pelata Texas Hold’emia\, jos innokkaita on riittävästi\, että saadaan pelit aikaiseksi. \nTorstaina 29.2.    Lettuja tarjolla klo 14.00-15.00 \nPerjantaina 1.3. Karaokea Maisa-pubissa klo 20.00-23.30 \nLauantaina 2.3. Pilkkikilpailut klo 10.00-13.00 Sarjat: nuoret\, naiset\, miehet – kalojen yhteispaino ratkaisee\nsarjan voittajan.\nMaisa-pubi auki klo 12.00-15.00
URL:https://uusi.sfcpirkanmaa.fi/event/hiihtoloma-maisansalossa/
LOCATION:Maisansalo\, Maisansalo\, Finland
CATEGORIES:Maisansalo
END:VEVENT
BEGIN:VEVENT
DTSTART;TZID=Europe/Helsinki:20240203T080000
DTEND;TZID=Europe/Helsinki:20240203T170000
DTSTAMP:20260422T110629
CREATED:20240127T164955Z
LAST-MODIFIED:20240127T164955Z
UID:13616-1706947200-1706979600@uusi.sfcpirkanmaa.fi
SUMMARY:Texas Hold’em turnaus
DESCRIPTION:Lauantaina 3.2.2024 pelataan Maisansalossa Texas Hold’em turnaus klo 11.00 alkaen.\nMukaan mahtuu 15 ensin ilmoittautunutta. Ilmoittautuminen alueen toimistolla.\n\n\nPubi auki klo 11.00 alkaen niin kauan kuin pelit kestää. Tervetuloa !!!
URL:https://uusi.sfcpirkanmaa.fi/event/texas-holdem-turnaus/
LOCATION:Maisansalo\, Maisansalo\, Finland
CATEGORIES:Maisansalo
END:VEVENT
END:VCALENDAR